BEGIN:VCALENDAR
VERSION:2.0
PRODID:-//Dordtsche Rugby Club - ECPv6.15.20//NONSGML v1.0//EN
CALSCALE:GREGORIAN
METHOD:PUBLISH
X-WR-CALNAME:Dordtsche Rugby Club
X-ORIGINAL-URL:https://dordtscherugbyclub.nl
X-WR-CALDESC:Evenementen voor Dordtsche Rugby Club
REFRESH-INTERVAL;VALUE=DURATION:PT1H
X-Robots-Tag:noindex
X-PUBLISHED-TTL:PT1H
BEGIN:VTIMEZONE
TZID:Europe/Amsterdam
BEGIN:DAYLIGHT
TZOFFSETFROM:+0100
TZOFFSETTO:+0200
TZNAME:CEST
DTSTART:20250330T010000
END:DAYLIGHT
BEGIN:STANDARD
TZOFFSETFROM:+0200
TZOFFSETTO:+0100
TZNAME:CET
DTSTART:20251026T010000
END:STANDARD
BEGIN:DAYLIGHT
TZOFFSETFROM:+0100
TZOFFSETTO:+0200
TZNAME:CEST
DTSTART:20260329T010000
END:DAYLIGHT
BEGIN:STANDARD
TZOFFSETFROM:+0200
TZOFFSETTO:+0100
TZNAME:CET
DTSTART:20261025T010000
END:STANDARD
BEGIN:DAYLIGHT
TZOFFSETFROM:+0100
TZOFFSETTO:+0200
TZNAME:CEST
DTSTART:20270328T010000
END:DAYLIGHT
BEGIN:STANDARD
TZOFFSETFROM:+0200
TZOFFSETTO:+0100
TZNAME:CET
DTSTART:20271031T010000
END:STANDARD
END:VTIMEZONE
BEGIN:VEVENT
DTSTART;TZID=Europe/Amsterdam:20260228T100000
DTEND;TZID=Europe/Amsterdam:20260228T123000
DTSTAMP:20260423T183157
CREATED:20260211T111821Z
LAST-MODIFIED:20260220T193518Z
UID:1639-1772272800-1772281800@dordtscherugbyclub.nl
SUMMARY:Regiodag TBM
DESCRIPTION:Op 28 februari organiseert de Dordtsche Rugby Club weer een gezellige Regiodag TBM. De teams van de Turven\, Benjamins en Mini’s spelen deze ochtend verschillende wedstrijden tegen clubs uit de regio. De kick-off van de eerste wedstrijden zijn om 10.00 uur en het duurt tot uiterlijk 12.30 uur. Verder is er natuurlijk weer de verkoop van de baktafel met allerlei lekkers gemaakt door ouders van de jeugdspelers. De opbrengst hiervan ten goede komt aan onze jeugd. \nKom langs en moedig onze jongste spelers aan!
URL:https://dordtscherugbyclub.nl/event/tbm-dag-28022026/
LOCATION:Dordtsche Rugby Club\, Schenkeldijk 10\, Dordrecht\, 3328 LE\, Netherlands
END:VEVENT
BEGIN:VEVENT
DTSTART;TZID=Europe/Amsterdam:20260423T183157
DTEND;TZID=Europe/Amsterdam:20260423T183157
DTSTAMP:20260423T183157
CREATED:20250802T125411Z
LAST-MODIFIED:20250805T073025Z
UID:1240-1776969117-1776969117@dordtscherugbyclub.nl
SUMMARY:Seizoensopener
DESCRIPTION:Seizoensopener van de Dordtsche Rugby Club. Op 20 september openen we het seizoen met een kleine activiteit en samen eten. De opener begint om 15:00.
URL:https://dordtscherugbyclub.nl/event/seizoensopener/
END:VEVENT
BEGIN:VEVENT
DTSTART;TZID=Europe/Amsterdam:20260423T183157
DTEND;TZID=Europe/Amsterdam:20260423T183157
DTSTAMP:20260423T183157
CREATED:20250802T125320Z
LAST-MODIFIED:20250805T071628Z
UID:1238-1776969117-1776969117@dordtscherugbyclub.nl
SUMMARY:Informatieavond
DESCRIPTION:Informatieavond over komend seizoen bij DRC. Tijdens deze avond zal de samenwerking met clusterpartners en het verloop van het komende seizoen besproken worden.\nLet op: Deze avond is voor de ouders/verzorgers van de jongere jeugd en oudere jeugdspelers (16+)
URL:https://dordtscherugbyclub.nl/event/informatieavond/
END:VEVENT
END:VCALENDAR