BEGIN:VCALENDAR
VERSION:2.0
PRODID:-//Dordtsche Rugby Club - ECPv6.15.20//NONSGML v1.0//EN
CALSCALE:GREGORIAN
METHOD:PUBLISH
X-WR-CALNAME:Dordtsche Rugby Club
X-ORIGINAL-URL:https://dordtscherugbyclub.nl
X-WR-CALDESC:Evenementen voor Dordtsche Rugby Club
REFRESH-INTERVAL;VALUE=DURATION:PT1H
X-Robots-Tag:noindex
X-PUBLISHED-TTL:PT1H
BEGIN:VTIMEZONE
TZID:Europe/Amsterdam
BEGIN:DAYLIGHT
TZOFFSETFROM:+0100
TZOFFSETTO:+0200
TZNAME:CEST
DTSTART:20250330T010000
END:DAYLIGHT
BEGIN:STANDARD
TZOFFSETFROM:+0200
TZOFFSETTO:+0100
TZNAME:CET
DTSTART:20251026T010000
END:STANDARD
BEGIN:DAYLIGHT
TZOFFSETFROM:+0100
TZOFFSETTO:+0200
TZNAME:CEST
DTSTART:20260329T010000
END:DAYLIGHT
BEGIN:STANDARD
TZOFFSETFROM:+0200
TZOFFSETTO:+0100
TZNAME:CET
DTSTART:20261025T010000
END:STANDARD
BEGIN:DAYLIGHT
TZOFFSETFROM:+0100
TZOFFSETTO:+0200
TZNAME:CEST
DTSTART:20270328T010000
END:DAYLIGHT
BEGIN:STANDARD
TZOFFSETFROM:+0200
TZOFFSETTO:+0100
TZNAME:CET
DTSTART:20271031T010000
END:STANDARD
END:VTIMEZONE
BEGIN:VEVENT
DTSTART;TZID=Europe/Amsterdam:20260426T050515
DTEND;TZID=Europe/Amsterdam:20260426T050515
DTSTAMP:20260426T050515
CREATED:20250802T125411Z
LAST-MODIFIED:20250805T073025Z
UID:1240-1777179915-1777179915@dordtscherugbyclub.nl
SUMMARY:Seizoensopener
DESCRIPTION:Seizoensopener van de Dordtsche Rugby Club. Op 20 september openen we het seizoen met een kleine activiteit en samen eten. De opener begint om 15:00.
URL:https://dordtscherugbyclub.nl/event/seizoensopener/
END:VEVENT
BEGIN:VEVENT
DTSTART;TZID=Europe/Amsterdam:20260426T050515
DTEND;TZID=Europe/Amsterdam:20260426T050515
DTSTAMP:20260426T050515
CREATED:20250802T125320Z
LAST-MODIFIED:20250805T071628Z
UID:1238-1777179915-1777179915@dordtscherugbyclub.nl
SUMMARY:Informatieavond
DESCRIPTION:Informatieavond over komend seizoen bij DRC. Tijdens deze avond zal de samenwerking met clusterpartners en het verloop van het komende seizoen besproken worden.\nLet op: Deze avond is voor de ouders/verzorgers van de jongere jeugd en oudere jeugdspelers (16+)
URL:https://dordtscherugbyclub.nl/event/informatieavond/
END:VEVENT
END:VCALENDAR