BEGIN:VCALENDAR
VERSION:2.0
PRODID:-//Dordtsche Rugby Club - ECPv6.15.20//NONSGML v1.0//EN
CALSCALE:GREGORIAN
METHOD:PUBLISH
X-ORIGINAL-URL:https://dordtscherugbyclub.nl
X-WR-CALDESC:Evenementen voor Dordtsche Rugby Club
REFRESH-INTERVAL;VALUE=DURATION:PT1H
X-Robots-Tag:noindex
X-PUBLISHED-TTL:PT1H
BEGIN:VTIMEZONE
TZID:Europe/Amsterdam
BEGIN:DAYLIGHT
TZOFFSETFROM:+0100
TZOFFSETTO:+0200
TZNAME:CEST
DTSTART:20250330T010000
END:DAYLIGHT
BEGIN:STANDARD
TZOFFSETFROM:+0200
TZOFFSETTO:+0100
TZNAME:CET
DTSTART:20251026T010000
END:STANDARD
BEGIN:DAYLIGHT
TZOFFSETFROM:+0100
TZOFFSETTO:+0200
TZNAME:CEST
DTSTART:20260329T010000
END:DAYLIGHT
BEGIN:STANDARD
TZOFFSETFROM:+0200
TZOFFSETTO:+0100
TZNAME:CET
DTSTART:20261025T010000
END:STANDARD
BEGIN:DAYLIGHT
TZOFFSETFROM:+0100
TZOFFSETTO:+0200
TZNAME:CEST
DTSTART:20270328T010000
END:DAYLIGHT
BEGIN:STANDARD
TZOFFSETFROM:+0200
TZOFFSETTO:+0100
TZNAME:CET
DTSTART:20271031T010000
END:STANDARD
END:VTIMEZONE
BEGIN:VEVENT
DTSTART;TZID=Europe/Amsterdam:20260307T110000
DTEND;TZID=Europe/Amsterdam:20260307T120000
DTSTAMP:20260423T130407
CREATED:20260220T201610Z
LAST-MODIFIED:20260222T191438Z
UID:1692-1772881200-1772884800@dordtscherugbyclub.nl
SUMMARY:Thuiswedstrijd Cubs tegen RC the Dukes
DESCRIPTION:Vandaag strijden onze Cubs samen met hun clusterteam RC the Bassets op het thuisveld tegen de RC the Dukes.
URL:https://dordtscherugbyclub.nl/event/thuiswedstrijd-cubs-07032026/
END:VEVENT
END:VCALENDAR